BEGIN:VCALENDAR
VERSION:2.0
PRODID:-//Seasonal Roots - ECPv6.15.15//NONSGML v1.0//EN
CALSCALE:GREGORIAN
METHOD:PUBLISH
X-WR-CALNAME:Seasonal Roots
X-ORIGINAL-URL:https://www.seasonalroots.com
X-WR-CALDESC:Events for Seasonal Roots
REFRESH-INTERVAL;VALUE=DURATION:PT1H
X-Robots-Tag:noindex
X-PUBLISHED-TTL:PT1H
BEGIN:VTIMEZONE
TZID:America/New_York
BEGIN:DAYLIGHT
TZOFFSETFROM:-0500
TZOFFSETTO:-0400
TZNAME:EDT
DTSTART:20280312T070000
END:DAYLIGHT
BEGIN:STANDARD
TZOFFSETFROM:-0400
TZOFFSETTO:-0500
TZNAME:EST
DTSTART:20281105T060000
END:STANDARD
BEGIN:DAYLIGHT
TZOFFSETFROM:-0500
TZOFFSETTO:-0400
TZNAME:EDT
DTSTART:20290311T070000
END:DAYLIGHT
BEGIN:STANDARD
TZOFFSETFROM:-0400
TZOFFSETTO:-0500
TZNAME:EST
DTSTART:20291104T060000
END:STANDARD
BEGIN:DAYLIGHT
TZOFFSETFROM:-0500
TZOFFSETTO:-0400
TZNAME:EDT
DTSTART:20300310T070000
END:DAYLIGHT
BEGIN:STANDARD
TZOFFSETFROM:-0400
TZOFFSETTO:-0500
TZNAME:EST
DTSTART:20301103T060000
END:STANDARD
BEGIN:DAYLIGHT
TZOFFSETFROM:-0500
TZOFFSETTO:-0400
TZNAME:EDT
DTSTART:20310309T070000
END:DAYLIGHT
BEGIN:STANDARD
TZOFFSETFROM:-0400
TZOFFSETTO:-0500
TZNAME:EST
DTSTART:20311102T060000
END:STANDARD
END:VTIMEZONE
BEGIN:VEVENT
DTSTART;TZID=America/New_York:20291123T140000
DTEND;TZID=America/New_York:20291125T235900
DTSTAMP:20260420T201631
CREATED:20250128T183520Z
LAST-MODIFIED:20250128T183520Z
UID:10000254-1890136800-1890345540@www.seasonalroots.com
SUMMARY:Our Online Farmers Market is Open
DESCRIPTION:Every weekend\, our online farmers market opens from Friday at 2 PM to Sunday at midnight\, offering fresh\, locally sourced produce\, artisan goods\, and prepared foods. \nMembers can shop their weekly orders\, swap items in their box\, and explore premium swap options\, while non-members can browse to see what we offer before joining. \nHere’s what you need to know: \n\nThe market opens every Friday at 2 PM and closes every Sunday at midnight.\nOrders are delivered on the following Wednesdays or Thursdays\, depending on your location.\nMembers can customize their orders to suit their preferences.\nEnjoy farm-fresh fruits and vegetables\, baked goods\, artisan treats\, prepared meals\, and more.\n\nQuestions? Visit our FAQ or contact us for more information!
URL:https://www.seasonalroots.com/event/our-online-farmers-market-is-open/2029-11-23/
END:VEVENT
BEGIN:VEVENT
DTSTART;TZID=America/New_York:20291130T140000
DTEND;TZID=America/New_York:20291202T235900
DTSTAMP:20260420T201631
CREATED:20250128T183520Z
LAST-MODIFIED:20250128T183520Z
UID:10000255-1890741600-1890950340@www.seasonalroots.com
SUMMARY:Our Online Farmers Market is Open
DESCRIPTION:Every weekend\, our online farmers market opens from Friday at 2 PM to Sunday at midnight\, offering fresh\, locally sourced produce\, artisan goods\, and prepared foods. \nMembers can shop their weekly orders\, swap items in their box\, and explore premium swap options\, while non-members can browse to see what we offer before joining. \nHere’s what you need to know: \n\nThe market opens every Friday at 2 PM and closes every Sunday at midnight.\nOrders are delivered on the following Wednesdays or Thursdays\, depending on your location.\nMembers can customize their orders to suit their preferences.\nEnjoy farm-fresh fruits and vegetables\, baked goods\, artisan treats\, prepared meals\, and more.\n\nQuestions? Visit our FAQ or contact us for more information!
URL:https://www.seasonalroots.com/event/our-online-farmers-market-is-open/2029-11-30/
END:VEVENT
BEGIN:VEVENT
DTSTART;TZID=America/New_York:20291207T140000
DTEND;TZID=America/New_York:20291209T235900
DTSTAMP:20260420T201631
CREATED:20250128T183520Z
LAST-MODIFIED:20250128T183520Z
UID:10000256-1891346400-1891555140@www.seasonalroots.com
SUMMARY:Our Online Farmers Market is Open
DESCRIPTION:Every weekend\, our online farmers market opens from Friday at 2 PM to Sunday at midnight\, offering fresh\, locally sourced produce\, artisan goods\, and prepared foods. \nMembers can shop their weekly orders\, swap items in their box\, and explore premium swap options\, while non-members can browse to see what we offer before joining. \nHere’s what you need to know: \n\nThe market opens every Friday at 2 PM and closes every Sunday at midnight.\nOrders are delivered on the following Wednesdays or Thursdays\, depending on your location.\nMembers can customize their orders to suit their preferences.\nEnjoy farm-fresh fruits and vegetables\, baked goods\, artisan treats\, prepared meals\, and more.\n\nQuestions? Visit our FAQ or contact us for more information!
URL:https://www.seasonalroots.com/event/our-online-farmers-market-is-open/2029-12-07/
END:VEVENT
BEGIN:VEVENT
DTSTART;TZID=America/New_York:20291214T140000
DTEND;TZID=America/New_York:20291216T235900
DTSTAMP:20260420T201631
CREATED:20250128T183520Z
LAST-MODIFIED:20250128T183520Z
UID:10000257-1891951200-1892159940@www.seasonalroots.com
SUMMARY:Our Online Farmers Market is Open
DESCRIPTION:Every weekend\, our online farmers market opens from Friday at 2 PM to Sunday at midnight\, offering fresh\, locally sourced produce\, artisan goods\, and prepared foods. \nMembers can shop their weekly orders\, swap items in their box\, and explore premium swap options\, while non-members can browse to see what we offer before joining. \nHere’s what you need to know: \n\nThe market opens every Friday at 2 PM and closes every Sunday at midnight.\nOrders are delivered on the following Wednesdays or Thursdays\, depending on your location.\nMembers can customize their orders to suit their preferences.\nEnjoy farm-fresh fruits and vegetables\, baked goods\, artisan treats\, prepared meals\, and more.\n\nQuestions? Visit our FAQ or contact us for more information!
URL:https://www.seasonalroots.com/event/our-online-farmers-market-is-open/2029-12-14/
END:VEVENT
BEGIN:VEVENT
DTSTART;TZID=America/New_York:20291221T140000
DTEND;TZID=America/New_York:20291223T235900
DTSTAMP:20260420T201631
CREATED:20250128T183520Z
LAST-MODIFIED:20250128T183520Z
UID:10000258-1892556000-1892764740@www.seasonalroots.com
SUMMARY:Our Online Farmers Market is Open
DESCRIPTION:Every weekend\, our online farmers market opens from Friday at 2 PM to Sunday at midnight\, offering fresh\, locally sourced produce\, artisan goods\, and prepared foods. \nMembers can shop their weekly orders\, swap items in their box\, and explore premium swap options\, while non-members can browse to see what we offer before joining. \nHere’s what you need to know: \n\nThe market opens every Friday at 2 PM and closes every Sunday at midnight.\nOrders are delivered on the following Wednesdays or Thursdays\, depending on your location.\nMembers can customize their orders to suit their preferences.\nEnjoy farm-fresh fruits and vegetables\, baked goods\, artisan treats\, prepared meals\, and more.\n\nQuestions? Visit our FAQ or contact us for more information!
URL:https://www.seasonalroots.com/event/our-online-farmers-market-is-open/2029-12-21/
END:VEVENT
BEGIN:VEVENT
DTSTART;TZID=America/New_York:20291228T140000
DTEND;TZID=America/New_York:20291230T235900
DTSTAMP:20260420T201631
CREATED:20250128T183520Z
LAST-MODIFIED:20250128T183520Z
UID:10000259-1893160800-1893369540@www.seasonalroots.com
SUMMARY:Our Online Farmers Market is Open
DESCRIPTION:Every weekend\, our online farmers market opens from Friday at 2 PM to Sunday at midnight\, offering fresh\, locally sourced produce\, artisan goods\, and prepared foods. \nMembers can shop their weekly orders\, swap items in their box\, and explore premium swap options\, while non-members can browse to see what we offer before joining. \nHere’s what you need to know: \n\nThe market opens every Friday at 2 PM and closes every Sunday at midnight.\nOrders are delivered on the following Wednesdays or Thursdays\, depending on your location.\nMembers can customize their orders to suit their preferences.\nEnjoy farm-fresh fruits and vegetables\, baked goods\, artisan treats\, prepared meals\, and more.\n\nQuestions? Visit our FAQ or contact us for more information!
URL:https://www.seasonalroots.com/event/our-online-farmers-market-is-open/2029-12-28/
END:VEVENT
BEGIN:VEVENT
DTSTART;TZID=America/New_York:20300104T140000
DTEND;TZID=America/New_York:20300106T235900
DTSTAMP:20260420T201631
CREATED:20250128T183520Z
LAST-MODIFIED:20250128T183520Z
UID:10000260-1893765600-1893974340@www.seasonalroots.com
SUMMARY:Our Online Farmers Market is Open
DESCRIPTION:Every weekend\, our online farmers market opens from Friday at 2 PM to Sunday at midnight\, offering fresh\, locally sourced produce\, artisan goods\, and prepared foods. \nMembers can shop their weekly orders\, swap items in their box\, and explore premium swap options\, while non-members can browse to see what we offer before joining. \nHere’s what you need to know: \n\nThe market opens every Friday at 2 PM and closes every Sunday at midnight.\nOrders are delivered on the following Wednesdays or Thursdays\, depending on your location.\nMembers can customize their orders to suit their preferences.\nEnjoy farm-fresh fruits and vegetables\, baked goods\, artisan treats\, prepared meals\, and more.\n\nQuestions? Visit our FAQ or contact us for more information!
URL:https://www.seasonalroots.com/event/our-online-farmers-market-is-open/2030-01-04/
END:VEVENT
BEGIN:VEVENT
DTSTART;TZID=America/New_York:20300111T140000
DTEND;TZID=America/New_York:20300113T235900
DTSTAMP:20260420T201631
CREATED:20250128T183520Z
LAST-MODIFIED:20250128T183520Z
UID:10000261-1894370400-1894579140@www.seasonalroots.com
SUMMARY:Our Online Farmers Market is Open
DESCRIPTION:Every weekend\, our online farmers market opens from Friday at 2 PM to Sunday at midnight\, offering fresh\, locally sourced produce\, artisan goods\, and prepared foods. \nMembers can shop their weekly orders\, swap items in their box\, and explore premium swap options\, while non-members can browse to see what we offer before joining. \nHere’s what you need to know: \n\nThe market opens every Friday at 2 PM and closes every Sunday at midnight.\nOrders are delivered on the following Wednesdays or Thursdays\, depending on your location.\nMembers can customize their orders to suit their preferences.\nEnjoy farm-fresh fruits and vegetables\, baked goods\, artisan treats\, prepared meals\, and more.\n\nQuestions? Visit our FAQ or contact us for more information!
URL:https://www.seasonalroots.com/event/our-online-farmers-market-is-open/2030-01-11/
END:VEVENT
BEGIN:VEVENT
DTSTART;TZID=America/New_York:20300118T140000
DTEND;TZID=America/New_York:20300120T235900
DTSTAMP:20260420T201631
CREATED:20250128T183520Z
LAST-MODIFIED:20250128T183520Z
UID:10000262-1894975200-1895183940@www.seasonalroots.com
SUMMARY:Our Online Farmers Market is Open
DESCRIPTION:Every weekend\, our online farmers market opens from Friday at 2 PM to Sunday at midnight\, offering fresh\, locally sourced produce\, artisan goods\, and prepared foods. \nMembers can shop their weekly orders\, swap items in their box\, and explore premium swap options\, while non-members can browse to see what we offer before joining. \nHere’s what you need to know: \n\nThe market opens every Friday at 2 PM and closes every Sunday at midnight.\nOrders are delivered on the following Wednesdays or Thursdays\, depending on your location.\nMembers can customize their orders to suit their preferences.\nEnjoy farm-fresh fruits and vegetables\, baked goods\, artisan treats\, prepared meals\, and more.\n\nQuestions? Visit our FAQ or contact us for more information!
URL:https://www.seasonalroots.com/event/our-online-farmers-market-is-open/2030-01-18/
END:VEVENT
BEGIN:VEVENT
DTSTART;TZID=America/New_York:20300125T140000
DTEND;TZID=America/New_York:20300127T235900
DTSTAMP:20260420T201631
CREATED:20250128T183520Z
LAST-MODIFIED:20250128T183520Z
UID:10000263-1895580000-1895788740@www.seasonalroots.com
SUMMARY:Our Online Farmers Market is Open
DESCRIPTION:Every weekend\, our online farmers market opens from Friday at 2 PM to Sunday at midnight\, offering fresh\, locally sourced produce\, artisan goods\, and prepared foods. \nMembers can shop their weekly orders\, swap items in their box\, and explore premium swap options\, while non-members can browse to see what we offer before joining. \nHere’s what you need to know: \n\nThe market opens every Friday at 2 PM and closes every Sunday at midnight.\nOrders are delivered on the following Wednesdays or Thursdays\, depending on your location.\nMembers can customize their orders to suit their preferences.\nEnjoy farm-fresh fruits and vegetables\, baked goods\, artisan treats\, prepared meals\, and more.\n\nQuestions? Visit our FAQ or contact us for more information!
URL:https://www.seasonalroots.com/event/our-online-farmers-market-is-open/2030-01-25/
END:VEVENT
END:VCALENDAR